BEGIN:VCALENDAR
VERSION:2.0
PRODID:-//SYMPHONY - ECPv6.15.20//NONSGML v1.0//EN
CALSCALE:GREGORIAN
METHOD:PUBLISH
X-ORIGINAL-URL:https://symphonyconsortium.nl
X-WR-CALDESC:Events for SYMPHONY
REFRESH-INTERVAL;VALUE=DURATION:PT1H
X-Robots-Tag:noindex
X-PUBLISHED-TTL:PT1H
BEGIN:VTIMEZONE
TZID:UTC
BEGIN:STANDARD
TZOFFSETFROM:+0000
TZOFFSETTO:+0000
TZNAME:UTC
DTSTART:20240101T000000
END:STANDARD
END:VTIMEZONE
BEGIN:VEVENT
DTSTART;TZID=UTC:20250123T110000
DTEND;TZID=UTC:20250123T123000
DTSTAMP:20260422T152203
CREATED:20250314T083839Z
LAST-MODIFIED:20250314T083839Z
UID:3627-1737630000-1737635400@symphonyconsortium.nl
SUMMARY:PhD defense WP06 - Alexander Janssen
DESCRIPTION:
URL:https://symphonyconsortium.nl/event/phd-defense-wp06-alexander-janssen/
CATEGORIES:Event
ATTACH;FMTTYPE=image/jpeg:https://symphonyconsortium.nl/wp-content/uploads/2020/06/Alexander-Janssen.jpg
END:VEVENT
END:VCALENDAR