BEGIN:VCALENDAR
VERSION:2.0
PRODID:-//SYMPHONY - ECPv6.15.20//NONSGML v1.0//EN
CALSCALE:GREGORIAN
METHOD:PUBLISH
X-WR-CALNAME:SYMPHONY
X-ORIGINAL-URL:https://symphonyconsortium.nl
X-WR-CALDESC:Events for SYMPHONY
REFRESH-INTERVAL;VALUE=DURATION:PT1H
X-Robots-Tag:noindex
X-PUBLISHED-TTL:PT1H
BEGIN:VTIMEZONE
TZID:UTC
BEGIN:STANDARD
TZOFFSETFROM:+0000
TZOFFSETTO:+0000
TZNAME:UTC
DTSTART:20190101T000000
END:STANDARD
END:VTIMEZONE
BEGIN:VTIMEZONE
TZID:Europe/Helsinki
BEGIN:DAYLIGHT
TZOFFSETFROM:+0200
TZOFFSETTO:+0300
TZNAME:EEST
DTSTART:20200329T010000
END:DAYLIGHT
BEGIN:STANDARD
TZOFFSETFROM:+0300
TZOFFSETTO:+0200
TZNAME:EET
DTSTART:20201025T010000
END:STANDARD
BEGIN:DAYLIGHT
TZOFFSETFROM:+0200
TZOFFSETTO:+0300
TZNAME:EEST
DTSTART:20210328T010000
END:DAYLIGHT
BEGIN:STANDARD
TZOFFSETFROM:+0300
TZOFFSETTO:+0200
TZNAME:EET
DTSTART:20211031T010000
END:STANDARD
BEGIN:DAYLIGHT
TZOFFSETFROM:+0200
TZOFFSETTO:+0300
TZNAME:EEST
DTSTART:20220327T010000
END:DAYLIGHT
BEGIN:STANDARD
TZOFFSETFROM:+0300
TZOFFSETTO:+0200
TZNAME:EET
DTSTART:20221030T010000
END:STANDARD
BEGIN:DAYLIGHT
TZOFFSETFROM:+0200
TZOFFSETTO:+0300
TZNAME:EEST
DTSTART:20230326T010000
END:DAYLIGHT
BEGIN:STANDARD
TZOFFSETFROM:+0300
TZOFFSETTO:+0200
TZNAME:EET
DTSTART:20231029T010000
END:STANDARD
END:VTIMEZONE
BEGIN:VEVENT
DTSTART;VALUE=DATE:20230324
DTEND;VALUE=DATE:20230325
DTSTAMP:20260422T225802
CREATED:20230825T125619Z
LAST-MODIFIED:20230825T125619Z
UID:3259-1679616000-1679702399@symphonyconsortium.nl
SUMMARY:Spring Meeting 2023
DESCRIPTION:
URL:https://symphonyconsortium.nl/event/spring-meeting-2023/
CATEGORIES:Event
ATTACH;FMTTYPE=image/jpeg:https://symphonyconsortium.nl/wp-content/uploads/2020/06/opera-594592_1920.jpg
END:VEVENT
BEGIN:VEVENT
DTSTART;TZID=UTC:20221104T133000
DTEND;TZID=UTC:20221104T153000
DTSTAMP:20260422T225802
CREATED:20220614T080929Z
LAST-MODIFIED:20220614T080929Z
UID:3142-1667568600-1667575800@symphonyconsortium.nl
SUMMARY:Theme Treatment Meeting
DESCRIPTION:
URL:https://symphonyconsortium.nl/event/theme-treatment-meeting-6/
CATEGORIES:Event
ATTACH;FMTTYPE=image/jpeg:https://symphonyconsortium.nl/wp-content/uploads/2021/10/violin-ga22fe58e8_1920.jpg
END:VEVENT
BEGIN:VEVENT
DTSTART;VALUE=DATE:20220927
DTEND;VALUE=DATE:20220928
DTSTAMP:20260422T225802
CREATED:20220614T080810Z
LAST-MODIFIED:20220614T080810Z
UID:3140-1664236800-1664323199@symphonyconsortium.nl
SUMMARY:General Assembly 2022
DESCRIPTION:
URL:https://symphonyconsortium.nl/event/general-assembly-2022/
CATEGORIES:Event
ATTACH;FMTTYPE=image/jpeg:https://symphonyconsortium.nl/wp-content/uploads/2020/01/orchestra-1815711_1920.jpg
END:VEVENT
BEGIN:VEVENT
DTSTART;TZID=UTC:20220624T090000
DTEND;TZID=UTC:20220624T110000
DTSTAMP:20260422T225802
CREATED:20211028T134333Z
LAST-MODIFIED:20211028T134333Z
UID:3031-1656061200-1656068400@symphonyconsortium.nl
SUMMARY:Theme Diagnostics & Theme Fundamental Research Meeting
DESCRIPTION:
URL:https://symphonyconsortium.nl/event/theme-diagnostics-theme-fundamental-research-meeting-2/
CATEGORIES:Event
ATTACH;FMTTYPE=image/jpeg:https://symphonyconsortium.nl/wp-content/uploads/2021/10/music-g58ff7ee27_1920.jpg
END:VEVENT
BEGIN:VEVENT
DTSTART;TZID=UTC:20220603T133000
DTEND;TZID=UTC:20220603T153000
DTSTAMP:20260422T225802
CREATED:20211028T134216Z
LAST-MODIFIED:20211028T134216Z
UID:3028-1654263000-1654270200@symphonyconsortium.nl
SUMMARY:Theme Treatment Meeting
DESCRIPTION:
URL:https://symphonyconsortium.nl/event/theme-treatment-meeting-5/
CATEGORIES:Event
ATTACH;FMTTYPE=image/jpeg:https://symphonyconsortium.nl/wp-content/uploads/2021/10/violin-ga22fe58e8_1920.jpg
END:VEVENT
BEGIN:VEVENT
DTSTART;TZID=UTC:20220325T100000
DTEND;TZID=UTC:20220325T140000
DTSTAMP:20260422T225802
CREATED:20211028T134035Z
LAST-MODIFIED:20211028T134035Z
UID:3026-1648202400-1648216800@symphonyconsortium.nl
SUMMARY:General Meeting
DESCRIPTION:
URL:https://symphonyconsortium.nl/event/general-meeting/
ATTACH;FMTTYPE=image/jpeg:https://symphonyconsortium.nl/wp-content/uploads/2020/01/orchestra-1815711_1920.jpg
END:VEVENT
BEGIN:VEVENT
DTSTART;TZID=UTC:20220204T140000
DTEND;TZID=UTC:20220204T153000
DTSTAMP:20260422T225802
CREATED:20211028T133841Z
LAST-MODIFIED:20211028T133841Z
UID:3023-1643983200-1643988600@symphonyconsortium.nl
SUMMARY:Advisory Board Meeting
DESCRIPTION:
URL:https://symphonyconsortium.nl/event/advisory-board-meeting/
CATEGORIES:Event
ATTACH;FMTTYPE=image/jpeg:https://symphonyconsortium.nl/wp-content/uploads/2021/10/conductor-g7bafdf32e_1920.jpg
END:VEVENT
BEGIN:VEVENT
DTSTART;TZID=UTC:20220128T090000
DTEND;TZID=UTC:20220128T110000
DTSTAMP:20260422T225802
CREATED:20211028T133630Z
LAST-MODIFIED:20211028T133630Z
UID:3020-1643360400-1643367600@symphonyconsortium.nl
SUMMARY:Theme Diagnostics & Theme Fundamental Research Meeting
DESCRIPTION:
URL:https://symphonyconsortium.nl/event/theme-diagnostics-theme-fundamental-research-meeting/
ATTACH;FMTTYPE=image/jpeg:https://symphonyconsortium.nl/wp-content/uploads/2021/10/music-g58ff7ee27_1920.jpg
END:VEVENT
BEGIN:VEVENT
DTSTART;TZID=UTC:20211209T200000
DTEND;TZID=UTC:20211209T210000
DTSTAMP:20260422T225802
CREATED:20211202T182638Z
LAST-MODIFIED:20211202T182824Z
UID:3034-1639080000-1639083600@symphonyconsortium.nl
SUMMARY:Webinar SYMPHONY: Partitura 1 – Zorgpaden en een patiëntenreis voor alle bloedstollingsstoornissen
DESCRIPTION:In samenwerking met de NVHP organiseert SYMPHONY op donderdag 9 december van 20.00 tot 21.00 uur een webinar over het nieuwe 2-jarige project Partitura dat is ontstaan uit de samenwerking met verschillende disciplines binnen SYMPHONY. \nPartitura (of in het Nederlands Partituur) is in de muziek het volledige overzicht van een muziekstuk\, hiermee heeft de dirigent met één blik overzicht over het beloop van het muziekstuk voor de verschillende instrumenten. \nSYMPHONY is al even van start\, het is een groot 5-jarig project gefinancierd door NWO-Nationale Wetenschapsagenda i.s.m. alle Hemofiliebehandelcentra\, Sanquin\, patiënten en drie farmaceutische partners dat onderzoek verricht in alle bloedstollingsstoornissen met het doel een behandeling op maat voor elke patiënt in elke levensfase in te richten. De NVHP is hier zeer actief bij betrokken. \nIn Partitura 1 willen de onderzoekers zorgpaden en een patiëntenreis maken voor iedereen met een bloedstollingsstoornis van 0 tot 8 jaar. \nIn dit webinar willen we jullie meenemen in dit onderzoek\, wat is een zorgpad? En wat is een patiëntenreis? Wat is eigenlijk het verschil tussen deze twee? \nMaar ook zullen we uitleggen hoe we de zorgpaden en de patiëntenreis in kaart willen brengen en waarom op deze manier. En uiteraard waarom is het belangrijk om deze op te stellen? \nDaarnaast is er voldoende ruimte om vragen te stellen en in gesprek te gaan met Shannon van Hoorn (onderzoeker SYMPHONY & Partitura\, Erasmus MC)\, Marleen van Rijckevorsel (student Industrieel Ontwerp TU Delft) en Simone Reitsma (project manager SYMPHONY & Partitura). \nInschrijven \nDe webinar is voor iedereen toegankelijk\, ook als je geen lid bent van de NVHP\, en vindt plaats via Zoom. Inschrijven kan hier. Aanmelden kan tot 18.00 uur op dinsdag 7 december. Je ontvangt uiterlijk 8 december een link in je mailbox en meer uitleg over het gebruik van Zoom. Heb je vragen over deze webinar of over de inschrijving? Stuur dan een mail naar nvhp@nvhp.nl of neem tijdens kantooruren telefonisch contact op via 033–247 10 49.
URL:https://symphonyconsortium.nl/event/webinar-symphony-partitura-1-zorgpaden-en-een-patientenreis-voor-alle-bloedstollingsstoornissen/
CATEGORIES:Event
ATTACH;FMTTYPE=image/png:https://symphonyconsortium.nl/wp-content/uploads/2021/12/Partitura-Logo-Kids.png
END:VEVENT
BEGIN:VEVENT
DTSTART;TZID=UTC:20211105T150000
DTEND;TZID=UTC:20211105T170000
DTSTAMP:20260422T225802
CREATED:20200920T174712Z
LAST-MODIFIED:20211028T133332Z
UID:2825-1636124400-1636131600@symphonyconsortium.nl
SUMMARY:Theme Treatment Meeting
DESCRIPTION:
URL:https://symphonyconsortium.nl/event/theme-treatment-meeting-4/
ATTACH;FMTTYPE=image/jpeg:https://symphonyconsortium.nl/wp-content/uploads/2020/01/orchestra-2098877_1920.jpg
END:VEVENT
BEGIN:VEVENT
DTSTART;VALUE=DATE:20210928
DTEND;VALUE=DATE:20210929
DTSTAMP:20260422T225802
CREATED:20210323T103522Z
LAST-MODIFIED:20210323T103522Z
UID:2969-1632787200-1632873599@symphonyconsortium.nl
SUMMARY:General Assembly
DESCRIPTION:
URL:https://symphonyconsortium.nl/event/general-assembly-2/
ATTACH;FMTTYPE=image/jpeg:https://symphonyconsortium.nl/wp-content/uploads/2020/01/orchestra-1815711_1920.jpg
END:VEVENT
BEGIN:VEVENT
DTSTART;TZID=UTC:20210625T090000
DTEND;TZID=UTC:20210625T110000
DTSTAMP:20260422T225802
CREATED:20200920T174905Z
LAST-MODIFIED:20200921T081441Z
UID:2831-1624611600-1624618800@symphonyconsortium.nl
SUMMARY:Theme Diagnostics & Fundamental Research Meeting
DESCRIPTION:
URL:https://symphonyconsortium.nl/event/theme-diagnostics-fundamental-research-meeting-3/
ATTACH;FMTTYPE=image/jpeg:https://symphonyconsortium.nl/wp-content/uploads/2020/01/musician-1045265_960_720.jpg
END:VEVENT
BEGIN:VEVENT
DTSTART;TZID=UTC:20210604T133000
DTEND;TZID=UTC:20210604T153000
DTSTAMP:20260422T225802
CREATED:20200920T174639Z
LAST-MODIFIED:20200921T075919Z
UID:2823-1622813400-1622820600@symphonyconsortium.nl
SUMMARY:Theme Treatment Meeting
DESCRIPTION:
URL:https://symphonyconsortium.nl/event/theme-treatment-meeting-3/
ATTACH;FMTTYPE=image/jpeg:https://symphonyconsortium.nl/wp-content/uploads/2020/01/orchestra-2098877_1920.jpg
END:VEVENT
BEGIN:VEVENT
DTSTART;TZID=UTC:20210423T090000
DTEND;TZID=UTC:20210423T110000
DTSTAMP:20260422T225802
CREATED:20200920T174835Z
LAST-MODIFIED:20200921T081533Z
UID:2829-1619168400-1619175600@symphonyconsortium.nl
SUMMARY:Theme Diagnostics & Fundamental Research Meeting
DESCRIPTION:
URL:https://symphonyconsortium.nl/event/theme-diagnostics-fundamental-research-meeting-2/
ATTACH;FMTTYPE=image/jpeg:https://symphonyconsortium.nl/wp-content/uploads/2020/01/drums-1766888_1920.jpg
END:VEVENT
BEGIN:VEVENT
DTSTART;TZID=UTC:20210305T133000
DTEND;TZID=UTC:20210305T153000
DTSTAMP:20260422T225802
CREATED:20200920T174606Z
LAST-MODIFIED:20200921T080001Z
UID:2821-1614951000-1614958200@symphonyconsortium.nl
SUMMARY:Theme Treatment Meeting
DESCRIPTION:
URL:https://symphonyconsortium.nl/event/theme-treatment-meeting-2/
ATTACH;FMTTYPE=image/jpeg:https://symphonyconsortium.nl/wp-content/uploads/2020/01/orchestra-2098877_1920.jpg
END:VEVENT
BEGIN:VEVENT
DTSTART;TZID=UTC:20210122T090000
DTEND;TZID=UTC:20210122T110000
DTSTAMP:20260422T225802
CREATED:20200920T174803Z
LAST-MODIFIED:20200921T081657Z
UID:2827-1611306000-1611313200@symphonyconsortium.nl
SUMMARY:Theme Diagnostics & Fundamental Research Meeting
DESCRIPTION:
URL:https://symphonyconsortium.nl/event/theme-diagnostics-fundamental-research-meeting/
ATTACH;FMTTYPE=image/jpeg:https://symphonyconsortium.nl/wp-content/uploads/2020/01/musician-1045265_960_720.jpg
END:VEVENT
BEGIN:VEVENT
DTSTART;TZID=UTC:20201113T133000
DTEND;TZID=UTC:20201113T153000
DTSTAMP:20260422T225802
CREATED:20200920T174517Z
LAST-MODIFIED:20200921T080038Z
UID:2819-1605274200-1605281400@symphonyconsortium.nl
SUMMARY:Theme Treatment Meeting
DESCRIPTION:
URL:https://symphonyconsortium.nl/event/theme-treatment-meeting/
ATTACH;FMTTYPE=image/jpeg:https://symphonyconsortium.nl/wp-content/uploads/2020/01/orchestra-2098877_1920.jpg
END:VEVENT
BEGIN:VEVENT
DTSTART;TZID=UTC:20200922T090000
DTEND;TZID=UTC:20200922T170000
DTSTAMP:20260422T225802
CREATED:20200113T090321Z
LAST-MODIFIED:20200904T103229Z
UID:2616-1600765200-1600794000@symphonyconsortium.nl
SUMMARY:General Assembly
DESCRIPTION:
URL:https://symphonyconsortium.nl/event/general-assembly/
ATTACH;FMTTYPE=image/jpeg:https://symphonyconsortium.nl/wp-content/uploads/2020/01/orchestra-1815711_1920.jpg
END:VEVENT
BEGIN:VEVENT
DTSTART;TZID=UTC:20200915T120000
DTEND;TZID=UTC:20200915T150000
DTSTAMP:20260422T225802
CREATED:20200113T090253Z
LAST-MODIFIED:20200723T105402Z
UID:2614-1600171200-1600182000@symphonyconsortium.nl
SUMMARY:Theme Diagnostics & Fundamental Research Meeting
DESCRIPTION:
URL:https://symphonyconsortium.nl/event/theme-fundamental-research-meeting/
ATTACH;FMTTYPE=image/jpeg:https://symphonyconsortium.nl/wp-content/uploads/2020/01/drums-1766888_1920.jpg
END:VEVENT
BEGIN:VEVENT
DTSTART;TZID=UTC:20200903T183000
DTEND;TZID=UTC:20200903T193000
DTSTAMP:20260422T225802
CREATED:20200605T123812Z
LAST-MODIFIED:20200605T123812Z
UID:2767-1599157800-1599161400@symphonyconsortium.nl
SUMMARY:Executive Board Meeting
DESCRIPTION:
URL:https://symphonyconsortium.nl/event/executive-board-meeting/
ATTACH;FMTTYPE=image/jpeg:https://symphonyconsortium.nl/wp-content/uploads/2020/06/opera-594592_1920.jpg
END:VEVENT
BEGIN:VEVENT
DTSTART;TZID=UTC:20200616T120000
DTEND;TZID=UTC:20200616T150000
DTSTAMP:20260422T225802
CREATED:20200113T090227Z
LAST-MODIFIED:20200605T123506Z
UID:2612-1592308800-1592319600@symphonyconsortium.nl
SUMMARY:Theme Treatment Meeting
DESCRIPTION:First meeting with WP05\, WP06\, WP07\, WP08 and WP09. \nProgram: \n12:00              Welcome \n12:15              Introduction by PhDs \n12:45              Lunch \n13:15              Brainstorm sessions \n13:45              Brainstorm sessions \n14:15              Conclusions
URL:https://symphonyconsortium.nl/event/theme-diagnostic-meeting-2/
LOCATION:Microsoft Teams
ATTACH;FMTTYPE=image/jpeg:https://symphonyconsortium.nl/wp-content/uploads/2020/01/orchestra-2098877_1920.jpg
END:VEVENT
BEGIN:VEVENT
DTSTART;TZID=UTC:20200317T120000
DTEND;TZID=UTC:20200317T150000
DTSTAMP:20260422T225802
CREATED:20200113T090141Z
LAST-MODIFIED:20200113T090141Z
UID:2610-1584446400-1584457200@symphonyconsortium.nl
SUMMARY:Theme Diagnostic Meeting
DESCRIPTION:
URL:https://symphonyconsortium.nl/event/theme-diagnostic-meeting/
END:VEVENT
BEGIN:VEVENT
DTSTART;TZID=UTC:20200128T093000
DTEND;TZID=UTC:20200128T170000
DTSTAMP:20260422T225802
CREATED:20200113T090048Z
LAST-MODIFIED:20200113T090048Z
UID:2608-1580203800-1580230800@symphonyconsortium.nl
SUMMARY:Application day
DESCRIPTION:
URL:https://symphonyconsortium.nl/event/application-day/
END:VEVENT
END:VCALENDAR