BEGIN:VCALENDAR
VERSION:2.0
PRODID:-//SYMPHONY - ECPv6.15.20//NONSGML v1.0//EN
CALSCALE:GREGORIAN
METHOD:PUBLISH
X-ORIGINAL-URL:https://symphonyconsortium.nl
X-WR-CALDESC:Events for SYMPHONY
REFRESH-INTERVAL;VALUE=DURATION:PT1H
X-Robots-Tag:noindex
X-PUBLISHED-TTL:PT1H
BEGIN:VTIMEZONE
TZID:UTC
BEGIN:STANDARD
TZOFFSETFROM:+0000
TZOFFSETTO:+0000
TZNAME:UTC
DTSTART:20230101T000000
END:STANDARD
END:VTIMEZONE
BEGIN:VEVENT
DTSTART;VALUE=DATE:20240322
DTEND;VALUE=DATE:20240323
DTSTAMP:20260422T225822
CREATED:20230825T125716Z
LAST-MODIFIED:20230825T125716Z
UID:3261-1711065600-1711151999@symphonyconsortium.nl
SUMMARY:Spring Meeting 2024
DESCRIPTION:
URL:https://symphonyconsortium.nl/event/spring-meeting-2024/
CATEGORIES:Event
ATTACH;FMTTYPE=image/jpeg:https://symphonyconsortium.nl/wp-content/uploads/2020/06/opera-594592_1920.jpg
END:VEVENT
BEGIN:VEVENT
DTSTART;TZID=UTC:20240924T080000
DTEND;TZID=UTC:20240924T170000
DTSTAMP:20260422T225822
CREATED:20250314T083243Z
LAST-MODIFIED:20250314T083243Z
UID:3621-1727164800-1727197200@symphonyconsortium.nl
SUMMARY:General Assembly 2024
DESCRIPTION:
URL:https://symphonyconsortium.nl/event/general-assembly-2024/
CATEGORIES:Event
ATTACH;FMTTYPE=image/jpeg:https://symphonyconsortium.nl/wp-content/uploads/2020/01/orchestra-1815711_1920.jpg
END:VEVENT
BEGIN:VEVENT
DTSTART;TZID=UTC:20241127T103000
DTEND;TZID=UTC:20241127T120000
DTSTAMP:20260422T225822
CREATED:20250314T083615Z
LAST-MODIFIED:20250314T083615Z
UID:3623-1732703400-1732708800@symphonyconsortium.nl
SUMMARY:PhD defense WP05 - Shannon van Hoorn
DESCRIPTION:
URL:https://symphonyconsortium.nl/event/phd-defense-wp05-shannon-van-hoorn/
CATEGORIES:Event
ATTACH;FMTTYPE=image/jpeg:https://symphonyconsortium.nl/wp-content/uploads/2020/05/Shannon-van-Hoorn-1.jpg
END:VEVENT
BEGIN:VEVENT
DTSTART;TZID=UTC:20241218T140000
DTEND;TZID=UTC:20241218T153000
DTSTAMP:20260422T225822
CREATED:20250314T083729Z
LAST-MODIFIED:20250314T083729Z
UID:3625-1734530400-1734535800@symphonyconsortium.nl
SUMMARY:PhD defense WP06 - Michael Cloesmeijer
DESCRIPTION:
URL:https://symphonyconsortium.nl/event/phd-defense-wp06-michael-cloesmeijer/
CATEGORIES:Event
ATTACH;FMTTYPE=image/jpeg:https://symphonyconsortium.nl/wp-content/uploads/2020/06/Michael-Cloesmeijer.jpg
END:VEVENT
BEGIN:VEVENT
DTSTART;TZID=UTC:20250123T110000
DTEND;TZID=UTC:20250123T123000
DTSTAMP:20260422T225822
CREATED:20250314T083839Z
LAST-MODIFIED:20250314T083839Z
UID:3627-1737630000-1737635400@symphonyconsortium.nl
SUMMARY:PhD defense WP06 - Alexander Janssen
DESCRIPTION:
URL:https://symphonyconsortium.nl/event/phd-defense-wp06-alexander-janssen/
CATEGORIES:Event
ATTACH;FMTTYPE=image/jpeg:https://symphonyconsortium.nl/wp-content/uploads/2020/06/Alexander-Janssen.jpg
END:VEVENT
BEGIN:VEVENT
DTSTART;TZID=UTC:20250402T160000
DTEND;TZID=UTC:20250402T173000
DTSTAMP:20260422T225822
CREATED:20250314T083935Z
LAST-MODIFIED:20250314T083935Z
UID:3629-1743609600-1743615000@symphonyconsortium.nl
SUMMARY:PhD defense WP07 - Martijn Brands
DESCRIPTION:
URL:https://symphonyconsortium.nl/event/phd-defense-wp07-martijn-brands/
CATEGORIES:Event
ATTACH;FMTTYPE=image/jpeg:https://symphonyconsortium.nl/wp-content/uploads/2020/10/Martijn-Brands-2020_3.jpg
END:VEVENT
BEGIN:VEVENT
DTSTART;TZID=UTC:20250522T140000
DTEND;TZID=UTC:20250522T153000
DTSTAMP:20260422T225822
CREATED:20250314T125532Z
LAST-MODIFIED:20250314T125532Z
UID:3631-1747922400-1747927800@symphonyconsortium.nl
SUMMARY:PhD defense WP04 - Minka Zivkovic
DESCRIPTION:
URL:https://symphonyconsortium.nl/event/phd-defense-wp04-minka-zivkovic/
CATEGORIES:Event
ATTACH;FMTTYPE=image/jpeg:https://symphonyconsortium.nl/wp-content/uploads/2020/05/Minka-Zirkovic.jpg
END:VEVENT
BEGIN:VEVENT
DTSTART;TZID=UTC:20250924T160000
DTEND;TZID=UTC:20250924T173000
DTSTAMP:20260422T225822
CREATED:20250314T125657Z
LAST-MODIFIED:20250314T125657Z
UID:3633-1758729600-1758735000@symphonyconsortium.nl
SUMMARY:PhD defense WP12 - Sebastiaan Laan
DESCRIPTION:
URL:https://symphonyconsortium.nl/event/phd-defense-wp12-sebastiaan-laan/
CATEGORIES:Event
ATTACH;FMTTYPE=image/jpeg:https://symphonyconsortium.nl/wp-content/uploads/2020/05/Sebastiaan-Laan.jpg
END:VEVENT
END:VCALENDAR