BEGIN:VCALENDAR
VERSION:2.0
PRODID:-//SYMPHONY - ECPv6.15.20//NONSGML v1.0//EN
CALSCALE:GREGORIAN
METHOD:PUBLISH
X-WR-CALNAME:SYMPHONY
X-ORIGINAL-URL:https://symphonyconsortium.nl
X-WR-CALDESC:Events for SYMPHONY
REFRESH-INTERVAL;VALUE=DURATION:PT1H
X-Robots-Tag:noindex
X-PUBLISHED-TTL:PT1H
BEGIN:VTIMEZONE
TZID:UTC
BEGIN:STANDARD
TZOFFSETFROM:+0000
TZOFFSETTO:+0000
TZNAME:UTC
DTSTART:20190101T000000
END:STANDARD
END:VTIMEZONE
BEGIN:VEVENT
DTSTART;TZID=UTC:20200915T120000
DTEND;TZID=UTC:20200915T150000
DTSTAMP:20260422T220601
CREATED:20200113T090253Z
LAST-MODIFIED:20200723T105402Z
UID:2614-1600171200-1600182000@symphonyconsortium.nl
SUMMARY:Theme Diagnostics & Fundamental Research Meeting
DESCRIPTION:
URL:https://symphonyconsortium.nl/event/theme-fundamental-research-meeting/
ATTACH;FMTTYPE=image/jpeg:https://symphonyconsortium.nl/wp-content/uploads/2020/01/drums-1766888_1920.jpg
END:VEVENT
BEGIN:VEVENT
DTSTART;TZID=UTC:20200903T183000
DTEND;TZID=UTC:20200903T193000
DTSTAMP:20260422T220601
CREATED:20200605T123812Z
LAST-MODIFIED:20200605T123812Z
UID:2767-1599157800-1599161400@symphonyconsortium.nl
SUMMARY:Executive Board Meeting
DESCRIPTION:
URL:https://symphonyconsortium.nl/event/executive-board-meeting/
ATTACH;FMTTYPE=image/jpeg:https://symphonyconsortium.nl/wp-content/uploads/2020/06/opera-594592_1920.jpg
END:VEVENT
BEGIN:VEVENT
DTSTART;TZID=UTC:20200616T120000
DTEND;TZID=UTC:20200616T150000
DTSTAMP:20260422T220601
CREATED:20200113T090227Z
LAST-MODIFIED:20200605T123506Z
UID:2612-1592308800-1592319600@symphonyconsortium.nl
SUMMARY:Theme Treatment Meeting
DESCRIPTION:First meeting with WP05\, WP06\, WP07\, WP08 and WP09. \nProgram: \n12:00              Welcome \n12:15              Introduction by PhDs \n12:45              Lunch \n13:15              Brainstorm sessions \n13:45              Brainstorm sessions \n14:15              Conclusions
URL:https://symphonyconsortium.nl/event/theme-diagnostic-meeting-2/
LOCATION:Microsoft Teams
ATTACH;FMTTYPE=image/jpeg:https://symphonyconsortium.nl/wp-content/uploads/2020/01/orchestra-2098877_1920.jpg
END:VEVENT
BEGIN:VEVENT
DTSTART;TZID=UTC:20200317T120000
DTEND;TZID=UTC:20200317T150000
DTSTAMP:20260422T220601
CREATED:20200113T090141Z
LAST-MODIFIED:20200113T090141Z
UID:2610-1584446400-1584457200@symphonyconsortium.nl
SUMMARY:Theme Diagnostic Meeting
DESCRIPTION:
URL:https://symphonyconsortium.nl/event/theme-diagnostic-meeting/
END:VEVENT
BEGIN:VEVENT
DTSTART;TZID=UTC:20200128T093000
DTEND;TZID=UTC:20200128T170000
DTSTAMP:20260422T220601
CREATED:20200113T090048Z
LAST-MODIFIED:20200113T090048Z
UID:2608-1580203800-1580230800@symphonyconsortium.nl
SUMMARY:Application day
DESCRIPTION:
URL:https://symphonyconsortium.nl/event/application-day/
END:VEVENT
END:VCALENDAR